BEGIN:VCALENDAR
PRODID:-//eluceo/ical//2.0/EN
VERSION:2.0
CALSCALE:GREGORIAN
BEGIN:VEVENT
UID:90d3a9b004b90bcca1796fae9c45e75d
DTSTAMP:20260422T084649Z
SUMMARY:Netzwerkapéro
DESCRIPTION:Vefsíða: https://restaurant-schiff.ch/
URL:https://rc-aegeri-menzingen.ch/is/agenda/show/162331
DTSTART;TZID=Europe/Zurich:20240109T180000
DTEND;TZID=Europe/Zurich:20240109T193000
LOCATION:Restaurant Schiff\, Zug
CATEGORIES:Rotary
END:VEVENT
BEGIN:VTIMEZONE
TZID:Europe/Zurich
BEGIN:STANDARD
DTSTART:20240109T180000
TZNAME:CET
TZOFFSETTO:+0100
TZOFFSETFROM:+0100
END:STANDARD
END:VTIMEZONE
END:VCALENDAR
