BEGIN:VCALENDAR
PRODID:-//eluceo/ical//2.0/EN
VERSION:2.0
CALSCALE:GREGORIAN
BEGIN:VEVENT
UID:a098fe7b4ff7e0d7608246487c8dc9cb
DTSTAMP:20260424T092000Z
SUMMARY:Dinner/Vortrag "Therapie von Jugendlichen"
DESCRIPTION:Conférencier(s): Dr. Elisa Lanzi
URL:https://rc-aegeri-menzingen.ch/fr/agenda/show/95511
DTSTART;TZID=Europe/Zurich:20190613T184500
DTEND;TZID=Europe/Zurich:20190613T184500
LOCATION:Restaurant Ochsen\, Menzingen
CATEGORIES:Rotary
END:VEVENT
BEGIN:VTIMEZONE
TZID:Europe/Zurich
BEGIN:DAYLIGHT
DTSTART:20190613T184500
TZNAME:CEST
TZOFFSETTO:+0200
TZOFFSETFROM:+0200
END:DAYLIGHT
END:VTIMEZONE
END:VCALENDAR
