BEGIN:VCALENDAR
PRODID:-//eluceo/ical//2.0/EN
VERSION:2.0
CALSCALE:GREGORIAN
BEGIN:VEVENT
UID:83be79199a973e3498fd2d2b095c7c7f
DTSTAMP:20260424T120100Z
SUMMARY:Netzwerkapéro
DESCRIPTION:
URL:https://rc-aegeri-menzingen.ch/fr/agenda/show/95488
DTSTART;TZID=Europe/Zurich:20190312T180000
DTEND;TZID=Europe/Zurich:20190312T180000
LOCATION:Restaurant Schiff\, Zug
CATEGORIES:Rotary
END:VEVENT
BEGIN:VTIMEZONE
TZID:Europe/Zurich
BEGIN:STANDARD
DTSTART:20190312T180000
TZNAME:CET
TZOFFSETTO:+0100
TZOFFSETFROM:+0100
END:STANDARD
END:VTIMEZONE
END:VCALENDAR
