BEGIN:VCALENDAR
PRODID:-//eluceo/ical//2.0/EN
VERSION:2.0
CALSCALE:GREGORIAN
BEGIN:VEVENT
UID:c9018f752c9b6b5ee3f49fdc34ee33cf
DTSTAMP:20260424T100337Z
SUMMARY:Lunch
DESCRIPTION:
URL:https://rc-aegeri-menzingen.ch/fr/agenda/show/89042
DTSTART;TZID=Europe/Zurich:20180802T121500
DTEND;TZID=Europe/Zurich:20180802T121500
LOCATION:Restaurant Raten\, Raten-Oberägeri
CATEGORIES:Rotary
END:VEVENT
BEGIN:VTIMEZONE
TZID:Europe/Zurich
BEGIN:DAYLIGHT
DTSTART:20180802T121500
TZNAME:CEST
TZOFFSETTO:+0200
TZOFFSETFROM:+0200
END:DAYLIGHT
END:VTIMEZONE
END:VCALENDAR
