BEGIN:VCALENDAR
PRODID:-//eluceo/ical//2.0/EN
VERSION:2.0
CALSCALE:GREGORIAN
BEGIN:VEVENT
UID:189c780d325e38ae86b300fe23d5c2e6
DTSTAMP:20260422T091247Z
SUMMARY:Immobilien Schweiz
DESCRIPTION:Conférencier(s): Prof. Dr. Markus Schmidiger
URL:https://rc-aegeri-menzingen.ch/fr/agenda/show/77652
DTSTART;TZID=Europe/Zurich:20170928T184500
DTEND;TZID=Europe/Zurich:20170928T184500
LOCATION:Restaurant Ochsen\, Menzigen
CATEGORIES:Rotary
END:VEVENT
BEGIN:VTIMEZONE
TZID:Europe/Zurich
BEGIN:DAYLIGHT
DTSTART:20170928T184500
TZNAME:CEST
TZOFFSETTO:+0200
TZOFFSETFROM:+0200
END:DAYLIGHT
END:VTIMEZONE
END:VCALENDAR
