BEGIN:VCALENDAR
PRODID:-//eluceo/ical//2.0/EN
VERSION:2.0
CALSCALE:GREGORIAN
BEGIN:VEVENT
UID:e934cec3959bc64b3fba2fc9b5108c0a
DTSTAMP:20260422T095235Z
SUMMARY:Lunch
DESCRIPTION:
URL:https://rc-aegeri-menzingen.ch/fr/agenda/show/77649
DTSTART;TZID=Europe/Zurich:20170907T121500
DTEND;TZID=Europe/Zurich:20170907T121500
LOCATION:Restaurant Lindenhof\, Unterägeri
CATEGORIES:Rotary
END:VEVENT
BEGIN:VTIMEZONE
TZID:Europe/Zurich
BEGIN:DAYLIGHT
DTSTART:20170907T121500
TZNAME:CEST
TZOFFSETTO:+0200
TZOFFSETFROM:+0200
END:DAYLIGHT
END:VTIMEZONE
END:VCALENDAR
