BEGIN:VCALENDAR
PRODID:-//eluceo/ical//2.0/EN
VERSION:2.0
CALSCALE:GREGORIAN
BEGIN:VEVENT
UID:d6679608bf83a69e337e64e865cebeae
DTSTAMP:20260422T085646Z
SUMMARY:Lunch
DESCRIPTION:
URL:https://rc-aegeri-menzingen.ch/fr/agenda/show/77646
DTSTART;TZID=Europe/Zurich:20170817T121500
DTEND;TZID=Europe/Zurich:20170817T121500
LOCATION:Restaurant Ochsen\, Menzigen
CATEGORIES:Rotary
END:VEVENT
BEGIN:VTIMEZONE
TZID:Europe/Zurich
BEGIN:DAYLIGHT
DTSTART:20170817T121500
TZNAME:CEST
TZOFFSETTO:+0200
TZOFFSETFROM:+0200
END:DAYLIGHT
END:VTIMEZONE
END:VCALENDAR
