BEGIN:VCALENDAR
PRODID:-//eluceo/ical//2.0/EN
VERSION:2.0
CALSCALE:GREGORIAN
BEGIN:VEVENT
UID:6346e34483fad940470354cb592cecee
DTSTAMP:20260422T092512Z
SUMMARY:Lunch
DESCRIPTION:
URL:https://rc-aegeri-menzingen.ch/fr/agenda/show/77641
DTSTART;TZID=Europe/Zurich:20170720T121500
DTEND;TZID=Europe/Zurich:20170720T121500
LOCATION:Restaurant Lindenhof\, Unterägeri
CATEGORIES:Rotary
END:VEVENT
BEGIN:VTIMEZONE
TZID:Europe/Zurich
BEGIN:DAYLIGHT
DTSTART:20170720T121500
TZNAME:CEST
TZOFFSETTO:+0200
TZOFFSETFROM:+0200
END:DAYLIGHT
END:VTIMEZONE
END:VCALENDAR
