BEGIN:VCALENDAR
PRODID:-//eluceo/ical//2.0/EN
VERSION:2.0
CALSCALE:GREGORIAN
BEGIN:VEVENT
UID:57025ab883d9f3af5aad8c1db23dd7be
DTSTAMP:20260422T103152Z
SUMMARY:Das Leben als Profisportler
DESCRIPTION:Partneranlass\nConférencier(s): Reto Suri
URL:https://rc-aegeri-menzingen.ch/fr/agenda/show/71586
DTSTART;TZID=Europe/Zurich:20170608T184500
DTEND;TZID=Europe/Zurich:20170608T184500
LOCATION:Restaurant Ochsen\, Menzingen
CATEGORIES:Rotary
END:VEVENT
BEGIN:VTIMEZONE
TZID:Europe/Zurich
BEGIN:DAYLIGHT
DTSTART:20170608T184500
TZNAME:CEST
TZOFFSETTO:+0200
TZOFFSETFROM:+0200
END:DAYLIGHT
END:VTIMEZONE
END:VCALENDAR
