BEGIN:VCALENDAR
PRODID:-//eluceo/ical//2.0/EN
VERSION:2.0
CALSCALE:GREGORIAN
BEGIN:VEVENT
UID:8110c65edee72afdc838d6a15940fca5
DTSTAMP:20260420T132601Z
SUMMARY:Musikschulpreis RC Aegeri-Menzingen
DESCRIPTION:
URL:https://rc-aegeri-menzingen.ch/fr/agenda/show/71577
DTSTART;TZID=Europe/Zurich:20170401T000000
DTEND;TZID=Europe/Zurich:20170401T000000
LOCATION:Hofmatt\, Oberägeri
CATEGORIES:Rotary
END:VEVENT
BEGIN:VTIMEZONE
TZID:Europe/Zurich
BEGIN:DAYLIGHT
DTSTART:20170401T000000
TZNAME:CEST
TZOFFSETTO:+0200
TZOFFSETFROM:+0200
END:DAYLIGHT
END:VTIMEZONE
END:VCALENDAR
