BEGIN:VCALENDAR
PRODID:-//eluceo/ical//2.0/EN
VERSION:2.0
CALSCALE:GREGORIAN
BEGIN:VEVENT
UID:eccb13481f9747cf5075afbf5e57248d
DTSTAMP:20260422T102706Z
SUMMARY:Hilfsprojekte für behinderte Kinder
DESCRIPTION:Partneranlass\nConférencier(s): Brigitte Born
URL:https://rc-aegeri-menzingen.ch/fr/agenda/show/71567
DTSTART;TZID=Europe/Zurich:20170309T184500
DTEND;TZID=Europe/Zurich:20170309T184500
LOCATION:Restaurant Ochsen\, Menzingen
CATEGORIES:Rotary
END:VEVENT
BEGIN:VTIMEZONE
TZID:Europe/Zurich
BEGIN:STANDARD
DTSTART:20170309T184500
TZNAME:CET
TZOFFSETTO:+0100
TZOFFSETFROM:+0100
END:STANDARD
END:VTIMEZONE
END:VCALENDAR
