BEGIN:VCALENDAR
PRODID:-//eluceo/ical//2.0/EN
VERSION:2.0
CALSCALE:GREGORIAN
BEGIN:VEVENT
UID:cf6fd0486ec868c1ebf9f05a2d6b02a7
DTSTAMP:20260422T125422Z
SUMMARY:Netzwerkapéro
DESCRIPTION:
URL:https://rc-aegeri-menzingen.ch/fr/agenda/show/197456
DTSTART;TZID=Europe/Zurich:20251209T180000
DTEND;TZID=Europe/Zurich:20251209T193000
LOCATION:Restaurant Schiff\, Graben 2\, 6300 Zug\, Schweiz
CATEGORIES:Rotary
END:VEVENT
BEGIN:VTIMEZONE
TZID:Europe/Zurich
BEGIN:STANDARD
DTSTART:20251209T180000
TZNAME:CET
TZOFFSETTO:+0100
TZOFFSETFROM:+0100
END:STANDARD
END:VTIMEZONE
END:VCALENDAR
