BEGIN:VCALENDAR
PRODID:-//eluceo/ical//2.0/EN
VERSION:2.0
CALSCALE:GREGORIAN
BEGIN:VEVENT
UID:6904edeb2cfa24f5312b03160e56e341
DTSTAMP:20260424T092314Z
SUMMARY:Lunch
DESCRIPTION:
URL:https://rc-aegeri-menzingen.ch/fr/agenda/show/102026
DTSTART;TZID=Europe/Zurich:20191219T121500
DTEND;TZID=Europe/Zurich:20191219T121500
LOCATION:Restaurant Ochsen\, Menzingen
CATEGORIES:Rotary
END:VEVENT
BEGIN:VTIMEZONE
TZID:Europe/Zurich
BEGIN:STANDARD
DTSTART:20191219T121500
TZNAME:CET
TZOFFSETTO:+0100
TZOFFSETFROM:+0100
END:STANDARD
END:VTIMEZONE
END:VCALENDAR
