BEGIN:VCALENDAR
PRODID:-//eluceo/ical//2.0/EN
VERSION:2.0
CALSCALE:GREGORIAN
BEGIN:VEVENT
UID:37aae6f3b70c26957f1f4a55d005d145
DTSTAMP:20260422T082035Z
SUMMARY:Netzwerkapéro
DESCRIPTION:
URL:https://rc-aegeri-menzingen.ch/es/agenda/show/161883
DTSTART;TZID=Europe/Zurich:20230808T180000
DTEND;TZID=Europe/Zurich:20230808T193000
LOCATION:Restaurant Schiff\, Zug
CATEGORIES:Rotary
END:VEVENT
BEGIN:VTIMEZONE
TZID:Europe/Zurich
BEGIN:DAYLIGHT
DTSTART:20230808T180000
TZNAME:CEST
TZOFFSETTO:+0200
TZOFFSETFROM:+0200
END:DAYLIGHT
END:VTIMEZONE
END:VCALENDAR
