BEGIN:VCALENDAR
PRODID:-//eluceo/ical//2.0/EN
VERSION:2.0
CALSCALE:GREGORIAN
BEGIN:VEVENT
UID:ea5a7bed282ef28a64f7e48949cffcdc
DTSTAMP:20260423T164828Z
SUMMARY:Netzwerkapéro
DESCRIPTION:
URL:https://rc-aegeri-menzingen.ch/es/agenda/show/128749
DTSTART;TZID=Europe/Zurich:20210914T180000
DTEND;TZID=Europe/Zurich:20210914T193000
LOCATION:Restaurant Schiff\, Zug
CATEGORIES:Rotary
END:VEVENT
BEGIN:VTIMEZONE
TZID:Europe/Zurich
BEGIN:DAYLIGHT
DTSTART:20210914T180000
TZNAME:CEST
TZOFFSETTO:+0200
TZOFFSETFROM:+0200
END:DAYLIGHT
END:VTIMEZONE
END:VCALENDAR
