BEGIN:VCALENDAR
PRODID:-//eluceo/ical//2.0/EN
VERSION:2.0
CALSCALE:GREGORIAN
BEGIN:VEVENT
UID:e1112276446c826a0963ce9eebb93ee0
DTSTAMP:20260423T004350Z
SUMMARY:Rot. Martin Pfister als Bundesrat gewählt
DESCRIPTION:Govornik(ci): \n \n \n\n  \n\n\n\n\n\n\n\n\n\n\n\n\n\n\n\n\n \n
  \n\n  \n\n\n\n\n\n\n\n\n\n\n\n\n\n\n\n\n \n \n\n  \n\n\n\n\n\n\n\n\n\n\n\
 n\n\n\n\n\n \n \n\n  \n\n\n\n\n\n\n\n\n\n\n\n\n\n\n\n\n \n \n\n  \n\n\n\n\
 n\n\n\n\n\n\n\n\n\n\n\n\n \n \n\n  \n\n\n\n\n\n\n\n\n\n\n\n\n\n\n\n\n \n \
 n\n  \n\n\n\n\n\n\n\n\n\n\n\n\n\n\n\n\n \n \n\n  \n\n\n\n\n\n\n\n\n\n\n\n\
 n\n\n\n\n \n \n\n  \n\n\n\n\n\n\n\n\n\n\n\n\n\n\n\n\n \n \n\n  \n\n\n\n\n\
 n\n\n\n\n\n\n\n\n\n\n\n \n \n\n  \n\n\n\n\n\n\n\n\n\n\n\n\n\n\n\n\n \n \n\
 n  \n\n \n\n\n\n\n\n\n\n \n\n\n\n\n\n\n\n \n\n\n\n\n\n\n\n \n\n\n\n\n\n\n\
 n \n\n\n\n\n\n\n\n \n\n\n\n\n\n\n\n \n\n\n\n\n\n\n\n \n\n\n\n\n\n\n\n \n\n
 \n\n\n\n\n\n \n\n\n\n\n\n\n\n \n\n\n\n\n\n\n\n \n
URL:https://rc-aegeri-menzingen.ch/bs/agenda/show/193320
DTSTART;TZID=Europe/Zurich:20250312T144500
DTEND;TZID=Europe/Zurich:20250331T144500
LOCATION:Allenwinden
CATEGORIES:Rotary
END:VEVENT
BEGIN:VTIMEZONE
TZID:Europe/Zurich
BEGIN:STANDARD
DTSTART:20250312T144500
TZNAME:CET
TZOFFSETTO:+0100
TZOFFSETFROM:+0100
END:STANDARD
BEGIN:DAYLIGHT
DTSTART:20250330T030000
TZNAME:CEST
TZOFFSETTO:+0200
TZOFFSETFROM:+0100
END:DAYLIGHT
END:VTIMEZONE
END:VCALENDAR
