BEGIN:VCALENDAR
PRODID:-//eluceo/ical//2.0/EN
VERSION:2.0
CALSCALE:GREGORIAN
BEGIN:VEVENT
UID:1e5a934c8840a65fda3d4471b9930c1e
DTSTAMP:20260422T212139Z
SUMMARY:Netzwerkapéro
DESCRIPTION:
URL:https://rc-aegeri-menzingen.ch/bs/agenda/show/161876
DTSTART;TZID=Europe/Zurich:20230711T180000
DTEND;TZID=Europe/Zurich:20230711T193000
LOCATION:Restaurant Schiff\, Zug
CATEGORIES:Rotary
END:VEVENT
BEGIN:VTIMEZONE
TZID:Europe/Zurich
BEGIN:DAYLIGHT
DTSTART:20230711T180000
TZNAME:CEST
TZOFFSETTO:+0200
TZOFFSETFROM:+0200
END:DAYLIGHT
END:VTIMEZONE
END:VCALENDAR
