BEGIN:VCALENDAR
PRODID:-//eluceo/ical//2.0/EN
VERSION:2.0
CALSCALE:GREGORIAN
BEGIN:VEVENT
UID:ace00a0200803b1367f69a3dcec04729
DTSTAMP:20260423T060628Z
SUMMARY:Rotary Musikschulfestival
DESCRIPTION:Govornik(ci): Gemäss separatem Programm
URL:https://rc-aegeri-menzingen.ch/bs/agenda/show/136461
DTSTART;TZID=Europe/Zurich:20220326T090000
DTEND;TZID=Europe/Zurich:20220326T220000
LOCATION:Menzingen\, Kantonsschule
CATEGORIES:Rotary
END:VEVENT
BEGIN:VTIMEZONE
TZID:Europe/Zurich
BEGIN:STANDARD
DTSTART:20220326T090000
TZNAME:CET
TZOFFSETTO:+0100
TZOFFSETFROM:+0100
END:STANDARD
END:VTIMEZONE
END:VCALENDAR
